BEGIN:VCALENDAR
VERSION:2.0
PRODID:-//Bienvenue à Salles-Lavalette - ECPv6.15.12.2//NONSGML v1.0//EN
CALSCALE:GREGORIAN
METHOD:PUBLISH
X-ORIGINAL-URL:https://salleslavalette.fr
X-WR-CALDESC:Évènements pour Bienvenue à Salles-Lavalette
REFRESH-INTERVAL;VALUE=DURATION:PT1H
X-Robots-Tag:noindex
X-PUBLISHED-TTL:PT1H
BEGIN:VTIMEZONE
TZID:Europe/Paris
BEGIN:DAYLIGHT
TZOFFSETFROM:+0100
TZOFFSETTO:+0200
TZNAME:CEST
DTSTART:20240331T010000
END:DAYLIGHT
BEGIN:STANDARD
TZOFFSETFROM:+0200
TZOFFSETTO:+0100
TZNAME:CET
DTSTART:20241027T010000
END:STANDARD
BEGIN:DAYLIGHT
TZOFFSETFROM:+0100
TZOFFSETTO:+0200
TZNAME:CEST
DTSTART:20250330T010000
END:DAYLIGHT
BEGIN:STANDARD
TZOFFSETFROM:+0200
TZOFFSETTO:+0100
TZNAME:CET
DTSTART:20251026T010000
END:STANDARD
BEGIN:DAYLIGHT
TZOFFSETFROM:+0100
TZOFFSETTO:+0200
TZNAME:CEST
DTSTART:20260329T010000
END:DAYLIGHT
BEGIN:STANDARD
TZOFFSETFROM:+0200
TZOFFSETTO:+0100
TZNAME:CET
DTSTART:20261025T010000
END:STANDARD
END:VTIMEZONE
BEGIN:VEVENT
DTSTART;TZID=Europe/Paris:20251004T170000
DTEND;TZID=Europe/Paris:20251004T190000
DTSTAMP:20260420T001220
CREATED:20250917T123121Z
LAST-MODIFIED:20250917T123213Z
UID:9518-1759597200-1759604400@salleslavalette.fr
SUMMARY:Théâtre
DESCRIPTION:L’association CLIP vous propose « Pinocchio »\, une pièce de Théâtre à ne pas manquer ! \nLa compagnie « La Mue du Tigre » présente une approche contemporaine du sujet sur la construction du pantin qui voulait devenir vrai. \nCette pièce s’adresse aussi bien aux petits qu’aux grands et offre l’occasion de passer un très bon moment en famille. \nSamedi 4 octobre à 17h au théâtre « Arc-en-ciel » à Chalais
URL:https://salleslavalette.fr/event/theatre-2/
LOCATION:Théâtre Arc en Ciel\, 1A Rue Victor Hugo\, Chalais\, 16210
CATEGORIES:Théâtral
ATTACH;FMTTYPE=image/jpeg:https://salleslavalette.fr/wp-content/uploads/2025/09/affiche-theatre-4-octobre_page-0-1.jpg
END:VEVENT
END:VCALENDAR