BEGIN:VCALENDAR
VERSION:2.0
PRODID:-//Bienvenue à Salles-Lavalette - ECPv6.15.12.2//NONSGML v1.0//EN
CALSCALE:GREGORIAN
METHOD:PUBLISH
X-WR-CALNAME:Bienvenue à Salles-Lavalette
X-ORIGINAL-URL:https://salleslavalette.fr
X-WR-CALDESC:Évènements pour Bienvenue à Salles-Lavalette
REFRESH-INTERVAL;VALUE=DURATION:PT1H
X-Robots-Tag:noindex
X-PUBLISHED-TTL:PT1H
BEGIN:VTIMEZONE
TZID:Europe/Paris
BEGIN:DAYLIGHT
TZOFFSETFROM:+0100
TZOFFSETTO:+0200
TZNAME:CEST
DTSTART:20250330T010000
END:DAYLIGHT
BEGIN:STANDARD
TZOFFSETFROM:+0200
TZOFFSETTO:+0100
TZNAME:CET
DTSTART:20251026T010000
END:STANDARD
BEGIN:DAYLIGHT
TZOFFSETFROM:+0100
TZOFFSETTO:+0200
TZNAME:CEST
DTSTART:20260329T010000
END:DAYLIGHT
BEGIN:STANDARD
TZOFFSETFROM:+0200
TZOFFSETTO:+0100
TZNAME:CET
DTSTART:20261025T010000
END:STANDARD
BEGIN:DAYLIGHT
TZOFFSETFROM:+0100
TZOFFSETTO:+0200
TZNAME:CEST
DTSTART:20270328T010000
END:DAYLIGHT
BEGIN:STANDARD
TZOFFSETFROM:+0200
TZOFFSETTO:+0100
TZNAME:CET
DTSTART:20271031T010000
END:STANDARD
END:VTIMEZONE
BEGIN:VEVENT
DTSTART;TZID=Europe/Paris:20260607T080000
DTEND;TZID=Europe/Paris:20260607T170000
DTSTAMP:20260420T032721
CREATED:20260303T082350Z
LAST-MODIFIED:20260303T082350Z
UID:9852-1780819200-1780851600@salleslavalette.fr
SUMMARY:Fête de la Pêche
DESCRIPTION:L’AAPPMA de Salles Lavalette a le plaisir de vous inviter à la fête de la pêche. Une journée conviviale\, ouverte à tous\, avec animations\, concours de pêche pour les petits\, restauration et bonne humeur au programme ! \nQue vous soyez pêcheur confirmé\, amateur\, ou simplement curieux\, venez partager un moment chaleureux et familial au bord de l’eau.
URL:https://salleslavalette.fr/event/fete-de-la-peche/
LOCATION:Pont de Gurat
CATEGORIES:Événement festif
ATTACH;FMTTYPE=image/jpeg:https://salleslavalette.fr/wp-content/uploads/2026/03/man-fishing-river-2.jpg
ORGANIZER;CN="AAPPMA Salles Lavalette":MAILTO:jacques.touillet@orange.fr
END:VEVENT
END:VCALENDAR